BEGIN:VCALENDAR
VERSION:2.0
PRODID:-//Pferdesportverband Nordbaden e.V. - ECPv6.15.20//NONSGML v1.0//EN
CALSCALE:GREGORIAN
METHOD:PUBLISH
X-WR-CALNAME:Pferdesportverband Nordbaden e.V.
X-ORIGINAL-URL:https://pferdesport-nordbaden.de
X-WR-CALDESC:Veranstaltungen für Pferdesportverband Nordbaden e.V.
REFRESH-INTERVAL;VALUE=DURATION:PT1H
X-Robots-Tag:noindex
X-PUBLISHED-TTL:PT1H
BEGIN:VTIMEZONE
TZID:Europe/Berlin
BEGIN:DAYLIGHT
TZOFFSETFROM:+0100
TZOFFSETTO:+0200
TZNAME:CEST
DTSTART:20240331T010000
END:DAYLIGHT
BEGIN:STANDARD
TZOFFSETFROM:+0200
TZOFFSETTO:+0100
TZNAME:CET
DTSTART:20241027T010000
END:STANDARD
BEGIN:DAYLIGHT
TZOFFSETFROM:+0100
TZOFFSETTO:+0200
TZNAME:CEST
DTSTART:20250330T010000
END:DAYLIGHT
BEGIN:STANDARD
TZOFFSETFROM:+0200
TZOFFSETTO:+0100
TZNAME:CET
DTSTART:20251026T010000
END:STANDARD
BEGIN:DAYLIGHT
TZOFFSETFROM:+0100
TZOFFSETTO:+0200
TZNAME:CEST
DTSTART:20260329T010000
END:DAYLIGHT
BEGIN:STANDARD
TZOFFSETFROM:+0200
TZOFFSETTO:+0100
TZNAME:CET
DTSTART:20261025T010000
END:STANDARD
END:VTIMEZONE
BEGIN:VEVENT
DTSTART;TZID=Europe/Berlin:20251003T000000
DTEND;TZID=Europe/Berlin:20251005T235959
DTSTAMP:20260419T195114
CREATED:20241123T092549Z
LAST-MODIFIED:20250106T155000Z
UID:2093-1759449600-1759708799@pferdesport-nordbaden.de
SUMMARY:Nordbadische Meisterschaften Dressur
DESCRIPTION:Wiesental
URL:https://pferdesport-nordbaden.de/event/nordbadische-meisterschaften-dressur/
CATEGORIES:Meisterschaften
ATTACH;FMTTYPE=image/jpeg:https://pferdesport-nordbaden.de/wp-content/uploads/2024/09/logo-psvn-2013-scaled-e1725739527928.jpeg
END:VEVENT
BEGIN:VEVENT
DTSTART;TZID=Europe/Berlin:20251004T000000
DTEND;TZID=Europe/Berlin:20251005T235959
DTSTAMP:20260419T195114
CREATED:20250104T172453Z
LAST-MODIFIED:20250106T154853Z
UID:2684-1759536000-1759708799@pferdesport-nordbaden.de
SUMMARY:Finale Jugendförderpreis Dressur
DESCRIPTION:Wiesental
URL:https://pferdesport-nordbaden.de/event/finale-jugendfoerderpreis-dressur/
CATEGORIES:Jugendförderpreis
ATTACH;FMTTYPE=image/jpeg:https://pferdesport-nordbaden.de/wp-content/uploads/2024/09/logo-psvn-2013-scaled-e1725739527928.jpeg
END:VEVENT
END:VCALENDAR